BEGIN:VCALENDAR
VERSION:2.0
CALSCALE:GREGORIAN
PRODID:-//Diputació de Barcelona//DibaCMS//EN
BEGIN:VEVENT
UID:6056
DTSTAMP:20260420T023913
DTSTART:20211107T120000
DTEND:20211107T120000
SUMMARY:Jordi Barceló, Toni Carlo i Joan Garcia  Concert-vermut.
LOCATION:
METHOD:PUBLISH
X-WR-CALNAME:capellades@capellades.cat
X-WR-TIMEZONE:Europe/Madrid
DESCRIPTION:
URI:https://www.capellades.cat/actualitat/agenda/jordi-barcelo-toni-carlo-i-joan-garcia-concert-vermut.html
CLASS:PUBLIC
END:VEVENT
END:VCALENDAR
