BEGIN:VCALENDAR
VERSION:2.0
CALSCALE:GREGORIAN
PRODID:-//Diputació de Barcelona//DibaCMS//EN
BEGIN:VEVENT
UID:605
DTSTAMP:20260420T055733
DTSTART:20151020T090000
DTEND:20151025T140000
SUMMARY:Cursa Neandertal 2015
LOCATION:
METHOD:PUBLISH
X-WR-CALNAME:capellades@capellades.cat
X-WR-TIMEZONE:Europe/Madrid
DESCRIPTION:
	Cursa i caminada de muntanya Neandertal 2015

	
	Organitzada des del 2010 per l'Associació d'Esports de Muntanya de Capellades (AEMdeKP), en col·laboració amb l'Ajuntament de Capellades, la Neandertal s'ha anat consolidant en el món del trail com una de les curses amb més ambient, diversió i originalitat dins d'aquesta disciplina esportiva, fins el punt d'exhaurir les inscripcions i crear llista d'espera en cada una de les seves edicions.

	Recollida de dorsals Nean 2015.

	Dissabte 24 de 16h a 19h i diumenge de 7.30h a 8.30h al pati del Teatre La Lliga (mateix horari al gimnàs de l'IES Molí de la Vila en cas de pluja)

	Els corredors federats hauran de portar el carnet de la Federació.

URI:https://www.capellades.cat/actualitat/agenda/cursa-neandertal-2015.html
CLASS:PUBLIC
END:VEVENT
END:VCALENDAR
