BEGIN:VCALENDAR
VERSION:2.0
CALSCALE:GREGORIAN
PRODID:-//Diputació de Barcelona//DibaCMS//EN
BEGIN:VEVENT
UID:600
DTSTAMP:20260422T131743
DTSTART:20151007T000000
DTEND:20151007T000000
SUMMARY:Oficina Mòbil d'informació al consumidor
LOCATION:
METHOD:PUBLISH
X-WR-CALNAME:capellades@capellades.cat
X-WR-TIMEZONE:Europe/Madrid
DESCRIPTION:
URI:https://www.capellades.cat/actualitat/agenda/oficina-mobil-dinformacio-al-consumidor.html
CLASS:PUBLIC
END:VEVENT
END:VCALENDAR
