BEGIN:VCALENDAR
VERSION:2.0
CALSCALE:GREGORIAN
PRODID:-//Diputació de Barcelona//DibaCMS//EN
BEGIN:VEVENT
UID:5999
DTSTAMP:20260420T060430
DTSTART:20211001T180000
DTEND:20211003T203000
SUMMARY:Exposició imatges Concurs Fotografia FM
LOCATION:
METHOD:PUBLISH
X-WR-CALNAME:capellades@capellades.cat
X-WR-TIMEZONE:Europe/Madrid
DESCRIPTION:Aquest cap de setmana exposició de fotos a Casa Bas.

URI:https://www.capellades.cat/actualitat/agenda/exposicio-imatges-concurs-fotografia-fm.html
CLASS:PUBLIC
END:VEVENT
END:VCALENDAR
