BEGIN:VCALENDAR
VERSION:2.0
CALSCALE:GREGORIAN
PRODID:-//Diputació de Barcelona//DibaCMS//EN
BEGIN:VEVENT
UID:5982
DTSTAMP:20260419T214351
DTSTART:20211002T190000
DTEND:20211002T210000
SUMMARY:Dissabte teatre amb "Estació zero"
LOCATION:
METHOD:PUBLISH
X-WR-CALNAME:capellades@capellades.cat
X-WR-TIMEZONE:Europe/Madrid
DESCRIPTION:Aquest dissabte a les 7 de la tarda . L'entrada es pot comprar on line a societatlalliga.cat i a taquilla el mateix dia a partir de les 18:30. Apta per a tots els públics.

URI:https://www.capellades.cat/actualitat/agenda/dissabte-teatre-amb-estacio-zero.html
CLASS:PUBLIC
END:VEVENT
END:VCALENDAR
