BEGIN:VCALENDAR
VERSION:2.0
CALSCALE:GREGORIAN
PRODID:-//Diputació de Barcelona//DibaCMS//EN
BEGIN:VEVENT
UID:597
DTSTAMP:20260419T182853
DTSTART:20151004T190000
DTEND:20151004T000000
SUMMARY:Cervells en la fosca, Grup Teatral Capellades
LOCATION:
METHOD:PUBLISH
X-WR-CALNAME:capellades@capellades.cat
X-WR-TIMEZONE:Europe/Madrid
DESCRIPTION:
	El Grup Teatral de Capellades al I Concurs  de Teatre Amateur Santa Coloma de Queralt amb l'obra "Cervells en la fosca"

	Cervells en la fosca

	04/10/2015 a les 19.00 h

	Teatre Municipal l'Estrella- Santa Coloma de Queralt

	
		Dins la programació del I Concurs de Teatre Amateur Santa Coloma de Queralt.
	
		Preu: 6,00 €
	
		Venda d'entrades: Llibrería dels Angels, tintoreria Mercè i 1h. i mitja abans de la funció a la taquilla del teatre.


	 

URI:https://www.capellades.cat/actualitat/agenda/cervells-en-la-fosca-grup-teatral-capellades.html
CLASS:PUBLIC
END:VEVENT
END:VCALENDAR
