BEGIN:VCALENDAR
VERSION:2.0
CALSCALE:GREGORIAN
PRODID:-//Diputació de Barcelona//DibaCMS//EN
BEGIN:VEVENT
UID:588
DTSTAMP:20260419T201802
DTSTART:20150405T000000
DTEND:20150405T000000
SUMMARY:Diumenge, Caramelles de Pasqua
LOCATION:
METHOD:PUBLISH
X-WR-CALNAME:capellades@capellades.cat
X-WR-TIMEZONE:Europe/Madrid
DESCRIPTION:
	Aquest diumenge tornaran els cants de les Caramelles de Pasqua, organitzats novament des de la Coral Xeremell.

	A partir de les 10 del matí i fins passat migdia els joves cantaires, dividits en grups, posaran en solfa el seu repertori musical, mantenint aquest costum que des de fa molts anys es repeteix cada diumenge de Pasqua.

URI:https://www.capellades.cat/actualitat/agenda/diumenge-caramelles-de-pasqua.html
CLASS:PUBLIC
END:VEVENT
END:VCALENDAR
