BEGIN:VCALENDAR
VERSION:2.0
CALSCALE:GREGORIAN
PRODID:-//Diputació de Barcelona//DibaCMS//EN
BEGIN:VEVENT
UID:5876
DTSTAMP:20260420T055102
DTSTART:20210713T190000
DTEND:20210713T200000
SUMMARY:Presentació del llibre de José Fernández Aguado
LOCATION:
METHOD:PUBLISH
X-WR-CALNAME:capellades@capellades.cat
X-WR-TIMEZONE:Europe/Madrid
DESCRIPTION:La Biblioteca El Safareig acollirà el proper dimarts 13 de juliol la presentació del llibre “Las relaciones respetuosas, auténticas y libres”, del psicòleg capelladí José Fernández Aguado.

URI:https://www.capellades.cat/actualitat/agenda/presentacio-del-llibre-de-jose-fernandez-aguado.html
CLASS:PUBLIC
END:VEVENT
END:VCALENDAR
