BEGIN:VCALENDAR
VERSION:2.0
CALSCALE:GREGORIAN
PRODID:-//Diputació de Barcelona//DibaCMS//EN
BEGIN:VEVENT
UID:5872
DTSTAMP:20260422T102611
DTSTART:20210714T210000
DTEND:20210714T230000
SUMMARY:Concert de Cant Coral 
LOCATION:
METHOD:PUBLISH
X-WR-CALNAME:capellades@capellades.cat
X-WR-TIMEZONE:Europe/Madrid
DESCRIPTION:El proper dimecres 14 de juliol podràs gaudir d'un bon concert a Capellades.

URI:https://www.capellades.cat/actualitat/agenda/concert-de-cant-coral-.html
CLASS:PUBLIC
END:VEVENT
END:VCALENDAR
