BEGIN:VCALENDAR
VERSION:2.0
CALSCALE:GREGORIAN
PRODID:-//Diputació de Barcelona//DibaCMS//EN
BEGIN:VEVENT
UID:5869
DTSTAMP:20260420T060039
DTSTART:20210702T190000
DTEND:20210702T200000
SUMMARY:Assemblea Oberta de la Xarxa de Suport Mutu
LOCATION:
METHOD:PUBLISH
X-WR-CALNAME:capellades@capellades.cat
X-WR-TIMEZONE:Europe/Madrid
DESCRIPTION:Aquest divendres es farà una assemblea oberta de la Xarxa de Suport Mutu.

URI:https://www.capellades.cat/actualitat/agenda/assemblea-oberta-de-la-xarxa-de-suport-mutu.html
CLASS:PUBLIC
END:VEVENT
END:VCALENDAR
