BEGIN:VCALENDAR
VERSION:2.0
CALSCALE:GREGORIAN
PRODID:-//Diputació de Barcelona//DibaCMS//EN
BEGIN:VEVENT
UID:5848
DTSTAMP:20260419T150505
DTSTART:20210628T100000
DTEND:20210709T140000
SUMMARY:Estiu Jove Activa't
LOCATION:
METHOD:PUBLISH
X-WR-CALNAME:capellades@capellades.cat
X-WR-TIMEZONE:Europe/Madrid
DESCRIPTION:Dues setmanes d'activitats per als joves de Capellades i La Torre de Claramunt.

URI:https://www.capellades.cat/actualitat/agenda/estiu-jove-activat.html
CLASS:PUBLIC
END:VEVENT
END:VCALENDAR
