BEGIN:VCALENDAR
VERSION:2.0
CALSCALE:GREGORIAN
PRODID:-//Diputació de Barcelona//DibaCMS//EN
BEGIN:VEVENT
UID:5804
DTSTAMP:20260419T164910
DTSTART:20210609T110000
DTEND:20210609T200000
SUMMARY:Dimecres és el Barri del Ninot
LOCATION:
METHOD:PUBLISH
X-WR-CALNAME:capellades@capellades.cat
X-WR-TIMEZONE:Europe/Madrid
DESCRIPTION:Dimecres 9 de juny és el Barri del Ninot.

URI:https://www.capellades.cat/actualitat/agenda/dimecres-es-el-barri-del-ninot.html
CLASS:PUBLIC
END:VEVENT
END:VCALENDAR
