BEGIN:VCALENDAR
VERSION:2.0
CALSCALE:GREGORIAN
PRODID:-//Diputació de Barcelona//DibaCMS//EN
BEGIN:VEVENT
UID:5803
DTSTAMP:20260420T042725
DTSTART:20210608T110000
DTEND:20210608T200000
SUMMARY:Dimarts Barri del Gegant
LOCATION:
METHOD:PUBLISH
X-WR-CALNAME:capellades@capellades.cat
X-WR-TIMEZONE:Europe/Madrid
DESCRIPTION:Dimarts 8 de juny és el Barri del Gegant.

URI:https://www.capellades.cat/actualitat/agenda/5803-dimarts-barri-del-gegant.html
CLASS:PUBLIC
END:VEVENT
END:VCALENDAR
