BEGIN:VCALENDAR
VERSION:2.0
CALSCALE:GREGORIAN
PRODID:-//Diputació de Barcelona//DibaCMS//EN
BEGIN:VEVENT
UID:5802
DTSTAMP:20260420T092124
DTSTART:20210607T110000
DTEND:20210607T200000
SUMMARY:Dilluns Barri del Ruc
LOCATION:
METHOD:PUBLISH
X-WR-CALNAME:capellades@capellades.cat
X-WR-TIMEZONE:Europe/Madrid
DESCRIPTION:El dilluns és el Barri del Ruc.

URI:https://www.capellades.cat/actualitat/agenda/5802-dilluns-barri-del-ruc.html
CLASS:PUBLIC
END:VEVENT
END:VCALENDAR
