BEGIN:VCALENDAR
VERSION:2.0
CALSCALE:GREGORIAN
PRODID:-//Diputació de Barcelona//DibaCMS//EN
BEGIN:VEVENT
UID:5801
DTSTAMP:20260419T183009
DTSTART:20210605T110000
DTEND:20210605T200000
SUMMARY:Barri de Les Bledes
LOCATION:
METHOD:PUBLISH
X-WR-CALNAME:capellades@capellades.cat
X-WR-TIMEZONE:Europe/Madrid
DESCRIPTION:Les Festes del Carrer comencen dissabte amb el Barri de Les Bledes.

URI:https://www.capellades.cat/actualitat/agenda/5801-barri-de-les-bledes.html
CLASS:PUBLIC
END:VEVENT
END:VCALENDAR
