BEGIN:VCALENDAR
VERSION:2.0
CALSCALE:GREGORIAN
PRODID:-//Diputació de Barcelona//DibaCMS//EN
BEGIN:VEVENT
UID:5797
DTSTAMP:20260420T012842
DTSTART:20210603T203000
DTEND:20210617T203000
SUMMARY:Classes de salsa i bachata
LOCATION:
METHOD:PUBLISH
X-WR-CALNAME:capellades@capellades.cat
X-WR-TIMEZONE:Europe/Madrid
DESCRIPTION:Vols rebre classes de salsa i bachata?

URI:https://www.capellades.cat/actualitat/agenda/classes-de-salsa-i-bachata.html
CLASS:PUBLIC
END:VEVENT
END:VCALENDAR
