BEGIN:VCALENDAR
VERSION:2.0
CALSCALE:GREGORIAN
PRODID:-//Diputació de Barcelona//DibaCMS//EN
BEGIN:VEVENT
UID:577
DTSTAMP:20260419T204108
DTSTART:20150303T000000
DTEND:20150308T000000
SUMMARY:Jornada de Portes Obertes a l'IES 
LOCATION:
METHOD:PUBLISH
X-WR-CALNAME:capellades@capellades.cat
X-WR-TIMEZONE:Europe/Madrid
DESCRIPTION:Aquest diumenge d'11 a 1 del migdia es farà a l'IES Molí de la Vila una Jornada de Portes Obertes per a tothom qui vulgui visitar aquesta instal·lació.
URI:https://www.capellades.cat/actualitat/agenda/jornada-de-portes-obertes-a-lies-.html
CLASS:PUBLIC
END:VEVENT
END:VCALENDAR
