BEGIN:VCALENDAR
VERSION:2.0
CALSCALE:GREGORIAN
PRODID:-//Diputació de Barcelona//DibaCMS//EN
BEGIN:VEVENT
UID:5738
DTSTAMP:20260419T195437
DTSTART:20210509T180000
DTEND:20210509T200000
SUMMARY:Comença el Festival d'Orgue amb Montserrat Torrent
LOCATION:
METHOD:PUBLISH
X-WR-CALNAME:capellades@capellades.cat
X-WR-TIMEZONE:Europe/Madrid
DESCRIPTION:La sisena edició del Festival d'Orgue comença a Capellades el diumenge 9 de maig a les 6 de la tarda amb un dels referents d'aquest país.

URI:https://www.capellades.cat/actualitat/agenda/comenca-el-festival-dorgue-amb-montserrat-torrent.html
CLASS:PUBLIC
END:VEVENT
END:VCALENDAR
