BEGIN:VCALENDAR
VERSION:2.0
CALSCALE:GREGORIAN
PRODID:-//Diputació de Barcelona//DibaCMS//EN
BEGIN:VEVENT
UID:5720
DTSTAMP:20260419T151322
DTSTART:20210423T190000
DTEND:20210423T200000
SUMMARY:El capelladí José Fernández Aguado presenta llibre
LOCATION:
METHOD:PUBLISH
X-WR-CALNAME:capellades@capellades.cat
X-WR-TIMEZONE:Europe/Madrid
DESCRIPTION:Aquest divendres de Sant Jordi el capelladí presentarà el seu primer llibre, de 7 a 8 del vespre, a la llibreria Taga.

URI:https://www.capellades.cat/actualitat/agenda/el-capelladi-jose-fernandez-aguado-presenta-llibre.html
CLASS:PUBLIC
END:VEVENT
END:VCALENDAR
