BEGIN:VCALENDAR
VERSION:2.0
CALSCALE:GREGORIAN
PRODID:-//Diputació de Barcelona//DibaCMS//EN
BEGIN:VEVENT
UID:5706
DTSTAMP:20260420T091256
DTSTART:20210424T110000
DTEND:20210424T140000
SUMMARY:Dissabte 24: Mercat de 2a. mà
LOCATION:
METHOD:PUBLISH
X-WR-CALNAME:capellades@capellades.cat
X-WR-TIMEZONE:Europe/Madrid
DESCRIPTION:L'activitat de la Setmana Cultural de Sant Jordi segueix tot el cap de setmana.

URI:https://www.capellades.cat/actualitat/agenda/dissabte-24-mercat-de-2a-ma.html
CLASS:PUBLIC
END:VEVENT
END:VCALENDAR
