BEGIN:VCALENDAR
VERSION:2.0
CALSCALE:GREGORIAN
PRODID:-//Diputació de Barcelona//DibaCMS//EN
BEGIN:VEVENT
UID:5703
DTSTAMP:20260420T060951
DTSTART:20210420T103000
DTEND:20210420T121500
SUMMARY:"El Senyor Riu"
LOCATION:
METHOD:PUBLISH
X-WR-CALNAME:capellades@capellades.cat
X-WR-TIMEZONE:Europe/Madrid
DESCRIPTION:El dimarts 20 d'abril els alumnes de P4 i P5 de l'escola Marquès de la Pobla i Mare del Diví Pastor faran una jornada cultural a la Bassa.

URI:https://www.capellades.cat/actualitat/agenda/el-senyor-riu.html
CLASS:PUBLIC
END:VEVENT
END:VCALENDAR
