BEGIN:VCALENDAR
VERSION:2.0
CALSCALE:GREGORIAN
PRODID:-//Diputació de Barcelona//DibaCMS//EN
BEGIN:VEVENT
UID:5698
DTSTAMP:20260420T011038
DTSTART:20210409T100000
DTEND:20210409T210000
SUMMARY:Aquest divendres vine a donar sang
LOCATION:
METHOD:PUBLISH
X-WR-CALNAME:capellades@capellades.cat
X-WR-TIMEZONE:Europe/Madrid
DESCRIPTION:Aquest divendres 9 d'abril es farà un nou acapte de sang a Cal Ponet.

URI:https://www.capellades.cat/actualitat/agenda/5698-aquest-divendres-vine-a-donar-sang.html
CLASS:PUBLIC
END:VEVENT
END:VCALENDAR
