BEGIN:VCALENDAR
VERSION:2.0
CALSCALE:GREGORIAN
PRODID:-//Diputació de Barcelona//DibaCMS//EN
BEGIN:VEVENT
UID:5693
DTSTAMP:20260419T205359
DTSTART:20210318T000000
DTEND:20210401T130000
SUMMARY:Casal de l'Esplai Aliret per Setmana Santa
LOCATION:
METHOD:PUBLISH
X-WR-CALNAME:capellades@capellades.cat
X-WR-TIMEZONE:Europe/Madrid
DESCRIPTION:Els nascuts entre el 2009 i el 2016 tenen una proposta per aquesta Setmana Santa: el Casal de l'Esplai Aliret, organitzat en col·laboració amb l'Ajuntament de Capellades.

URI:https://www.capellades.cat/actualitat/agenda/casal-de-lesplai-aliret-per-setmana-santa.html
CLASS:PUBLIC
END:VEVENT
END:VCALENDAR
