BEGIN:VCALENDAR
VERSION:2.0
CALSCALE:GREGORIAN
PRODID:-//Diputació de Barcelona//DibaCMS//EN
BEGIN:VEVENT
UID:5692
DTSTAMP:20260420T024645
DTSTART:20210318T000000
DTEND:20210320T190000
SUMMARY:Dissabte, "Perduts" a La Lliga
LOCATION:
METHOD:PUBLISH
X-WR-CALNAME:capellades@capellades.cat
X-WR-TIMEZONE:Europe/Madrid
DESCRIPTION:L’entitat capelladina continua amb la seva programació de teatre d’humor.

Per aquest dissabte ens proposen PERDUTS.

URI:https://www.capellades.cat/actualitat/agenda/dissabte-perduts-a-la-lliga.html
CLASS:PUBLIC
END:VEVENT
END:VCALENDAR
