BEGIN:VCALENDAR
VERSION:2.0
CALSCALE:GREGORIAN
PRODID:-//Diputació de Barcelona//DibaCMS//EN
BEGIN:VEVENT
UID:5691
DTSTAMP:20260419T151459
DTSTART:20210421T110000
DTEND:20210421T193000
SUMMARY:“Josep”, guardonat amb el Premi Cèsar, el dimecres 21 d'abril
LOCATION:
METHOD:PUBLISH
X-WR-CALNAME:capellades@capellades.cat
X-WR-TIMEZONE:Europe/Madrid
DESCRIPTION:El dimecres 21 d'abril, dins la Setmana Cultural de Sant Jordi es programarà a Capellades un seguit de propostes culturals de diferents tipus.

URI:https://www.capellades.cat/actualitat/agenda/josep-guardonat-amb-el-premi-cesar-el-dimecres-21-dabril.html
CLASS:PUBLIC
END:VEVENT
END:VCALENDAR
