BEGIN:VCALENDAR
VERSION:2.0
CALSCALE:GREGORIAN
PRODID:-//Diputació de Barcelona//DibaCMS//EN
BEGIN:VEVENT
UID:567
DTSTAMP:20260419T150643
DTSTART:20150201T000000
DTEND:20150201T000000
SUMMARY: II Cros escolar a la Divina Pastora
LOCATION:
METHOD:PUBLISH
X-WR-CALNAME:capellades@capellades.cat
X-WR-TIMEZONE:Europe/Madrid
DESCRIPTION:
	El diumenge 1 de febrer es farà el II Cross organitzat des de l'escola Mare del Diví Pastor.

	La sortida i l'arribada es faran sempre des de la Font Cuitora i el recorregut i horari de les curses depèn de l'edat del participant. Els primers a sortir seran els cadets masculins, a les 10 del matí. En acabar totes les categories es fàrà l'entrega de premis.

URI:https://www.capellades.cat/actualitat/agenda/-ii-cros-escolar-a-la-divina-pastora.html
CLASS:PUBLIC
END:VEVENT
END:VCALENDAR
