BEGIN:VCALENDAR
VERSION:2.0
CALSCALE:GREGORIAN
PRODID:-//Diputació de Barcelona//DibaCMS//EN
BEGIN:VEVENT
UID:5644
DTSTAMP:20260419T153154
DTSTART:20210214T180000
DTEND:20210214T190000
SUMMARY:Carnestoltes infantil amb Xarxa
LOCATION:
METHOD:PUBLISH
X-WR-CALNAME:capellades@capellades.cat
X-WR-TIMEZONE:Europe/Madrid
DESCRIPTION:El Carnestoltes infantil es celebra a Capellades amb un espectacle de circ, organitzat un any més per La Xarxa Capellades, en col·laboració amb l'Ajuntament.

URI:https://www.capellades.cat/actualitat/agenda/carnestoltes-infantil-amb-xarxa.html
CLASS:PUBLIC
END:VEVENT
END:VCALENDAR
