BEGIN:VCALENDAR
VERSION:2.0
CALSCALE:GREGORIAN
PRODID:-//Diputació de Barcelona//DibaCMS//EN
BEGIN:VEVENT
UID:5626
DTSTAMP:20260420T014918
DTSTART:20210207T123000
DTEND:20210207T123000
SUMMARY:Espectacle familiar per tancar la Festa Major d'Hivern
LOCATION:
METHOD:PUBLISH
X-WR-CALNAME:capellades@capellades.cat
X-WR-TIMEZONE:Europe/Madrid
DESCRIPTION:Per tancar la Festa Major d'Hivern, diumenge al matí es podrà gaudir d'un espectacle familiar: Nàufrags

URI:https://www.capellades.cat/actualitat/agenda/espectacle-familiar-per-tancar-la-festa-major-dhivern.html
CLASS:PUBLIC
END:VEVENT
END:VCALENDAR
