BEGIN:VCALENDAR
VERSION:2.0
CALSCALE:GREGORIAN
PRODID:-//Diputació de Barcelona//DibaCMS//EN
BEGIN:VEVENT
UID:5623
DTSTAMP:20260419T183118
DTSTART:20210205T200000
DTEND:20210205T220000
SUMMARY:Teatre per adults a la Festa Major d'Hivern
LOCATION:
METHOD:PUBLISH
X-WR-CALNAME:capellades@capellades.cat
X-WR-TIMEZONE:Europe/Madrid
DESCRIPTION:El primer acte de la Festa Major d'Hivern serà teatral, el divendres 5 de febrer a les 8 del vespre al Teatre La Lliga.

URI:https://www.capellades.cat/actualitat/agenda/teatre-per-adults-a-la-festa-major-dhivern.html
CLASS:PUBLIC
END:VEVENT
END:VCALENDAR
