BEGIN:VCALENDAR
VERSION:2.0
CALSCALE:GREGORIAN
PRODID:-//Diputació de Barcelona//DibaCMS//EN
BEGIN:VEVENT
UID:561
DTSTAMP:20260419T133345
DTSTART:20141227T000000
DTEND:20141227T000000
SUMMARY:El Quinto de Nadal
LOCATION:
METHOD:PUBLISH
X-WR-CALNAME:capellades@capellades.cat
X-WR-TIMEZONE:Europe/Madrid
DESCRIPTION:Un any més el Quinto de Nadal es farà el dia 27 de desembre a les sis de la tarda a La Lliga de Capellades.
URI:https://www.capellades.cat/actualitat/agenda/el-quinto-de-nadal.html
CLASS:PUBLIC
END:VEVENT
END:VCALENDAR
