BEGIN:VCALENDAR
VERSION:2.0
CALSCALE:GREGORIAN
PRODID:-//Diputació de Barcelona//DibaCMS//EN
BEGIN:VEVENT
UID:558
DTSTAMP:20260422T130645
DTSTART:20141222T000000
DTEND:20141228T000000
SUMMARY:Pastorets
LOCATION:
METHOD:PUBLISH
X-WR-CALNAME:capellades@capellades.cat
X-WR-TIMEZONE:Europe/Madrid
DESCRIPTION:
	El Grup Teatral de Capellades organitza els tradicional Pastorets de Capellades, amb "L'Estel de Natzaret".

	Les representacions es faran el dia de Nadal a les 7 de la tarda i el dia 28 a les sis de la tarda.

URI:https://www.capellades.cat/actualitat/agenda/pastorets.html
CLASS:PUBLIC
END:VEVENT
END:VCALENDAR
