BEGIN:VCALENDAR
VERSION:2.0
CALSCALE:GREGORIAN
PRODID:-//Diputació de Barcelona//DibaCMS//EN
BEGIN:VEVENT
UID:5572
DTSTAMP:20260419T165746
DTSTART:20201225T000000
DTEND:20201225T230000
SUMMARY:Se suspèn la Cursa del Gall Dindi de Capellades
LOCATION:
METHOD:PUBLISH
X-WR-CALNAME:capellades@capellades.cat
X-WR-TIMEZONE:Europe/Madrid
DESCRIPTION:Cada 25 de desembre s'organitza la Cursa del Gall Dindi i, sempre que el nivell d'aigua de l'aqüífer ho permet, la Travessa a la Bassa.

URI:https://www.capellades.cat/actualitat/agenda/se-suspen-la-cursa-del-gall-dindi-de-capellades.html
CLASS:PUBLIC
END:VEVENT
END:VCALENDAR
