BEGIN:VCALENDAR
VERSION:2.0
CALSCALE:GREGORIAN
PRODID:-//Diputació de Barcelona//DibaCMS//EN
BEGIN:VEVENT
UID:5559
DTSTAMP:20260419T222046
DTSTART:20201213T180000
DTEND:20201213T200000
SUMMARY:Coral Càrmina i David Malet a l'orgue: aquest diumenge
LOCATION:
METHOD:PUBLISH
X-WR-CALNAME:capellades@capellades.cat
X-WR-TIMEZONE:Europe/Madrid
DESCRIPTION:Aquest diumenge 13 de desembre a les 6 de la tarda es farà el segon concert del Festival d'Orgue de Capellades a l'església de Santa Maria.

URI:https://www.capellades.cat/actualitat/agenda/coral-carmina-i-david-malet-a-lorgue-aquest-diumenge.html
CLASS:PUBLIC
END:VEVENT
END:VCALENDAR
