BEGIN:VCALENDAR
VERSION:2.0
CALSCALE:GREGORIAN
PRODID:-//Diputació de Barcelona//DibaCMS//EN
BEGIN:VEVENT
UID:5549
DTSTAMP:20260422T131558
DTSTART:20201204T193000
DTEND:20201204T210000
SUMMARY:Cinema a La Lliga
LOCATION:
METHOD:PUBLISH
X-WR-CALNAME:capellades@capellades.cat
X-WR-TIMEZONE:Europe/Madrid
DESCRIPTION:Aquest divendres torna el cinema a La Lliga amb "La família que tu esculls".

URI:https://www.capellades.cat/actualitat/agenda/5549-cinema-a-la-lliga.html
CLASS:PUBLIC
END:VEVENT
END:VCALENDAR
