BEGIN:VCALENDAR
VERSION:2.0
CALSCALE:GREGORIAN
PRODID:-//Diputació de Barcelona//DibaCMS//EN
BEGIN:VEVENT
UID:5548
DTSTAMP:20260419T200633
DTSTART:20201203T000000
DTEND:20201210T090000
SUMMARY:Xarxa a les escoles
LOCATION:
METHOD:PUBLISH
X-WR-CALNAME:capellades@capellades.cat
X-WR-TIMEZONE:Europe/Madrid
DESCRIPTION:Xarxa portarà teatre a les escoles el dijous 10 de desembre.

URI:https://www.capellades.cat/actualitat/agenda/xarxa-a-les-escoles.html
CLASS:PUBLIC
END:VEVENT
END:VCALENDAR
