BEGIN:VCALENDAR
VERSION:2.0
CALSCALE:GREGORIAN
PRODID:-//Diputació de Barcelona//DibaCMS//EN
BEGIN:VEVENT
UID:540
DTSTAMP:20260419T194758
DTSTART:20141118T200000
DTEND:20141118T220000
SUMMARY:Estones de conversa en anglès
LOCATION:
METHOD:PUBLISH
X-WR-CALNAME:capellades@capellades.cat
X-WR-TIMEZONE:Europe/Madrid
DESCRIPTION:Aquest divendres 21 de novembre a les 8 del vespre començarà una nova activitat a La Lliga de Capellades.Es tracta de "Converses en anglès", una proposta coordinada per Bill Gudnason, que proposarà estones de conversa, altres de veure pel·lícules... tot sempre sota el fil conductor de la llengua anglesa.
URI:https://www.capellades.cat/actualitat/agenda/estones-de-conversa-en-angles.html
CLASS:PUBLIC
END:VEVENT
END:VCALENDAR
