BEGIN:VCALENDAR
VERSION:2.0
CALSCALE:GREGORIAN
PRODID:-//Diputació de Barcelona//DibaCMS//EN
BEGIN:VEVENT
UID:5390
DTSTAMP:20260419T214002
DTSTART:20200904T213000
DTEND:20200904T230000
SUMMARY:Teatre: El final NO està escrit
LOCATION:
METHOD:PUBLISH
X-WR-CALNAME:capellades@capellades.cat
X-WR-TIMEZONE:Europe/Madrid
DESCRIPTION:El setembre començarà a Capellades amb teatre.

URI:https://www.capellades.cat/actualitat/agenda/teatre-el-final-no-esta-escrit.html
CLASS:PUBLIC
END:VEVENT
END:VCALENDAR
