BEGIN:VCALENDAR
VERSION:2.0
CALSCALE:GREGORIAN
PRODID:-//Diputació de Barcelona//DibaCMS//EN
BEGIN:VEVENT
UID:5389
DTSTAMP:20260420T060637
DTSTART:20200828T203000
DTEND:20200828T220000
SUMMARY:El divendres 28, Boogalizer a Capellades
LOCATION:
METHOD:PUBLISH
X-WR-CALNAME:capellades@capellades.cat
X-WR-TIMEZONE:Europe/Madrid
DESCRIPTION:El divendres 28 a dos quarts de 9 de la nit e podrà gaudir amb el concert de Boogalizer.

URI:https://www.capellades.cat/actualitat/agenda/el-divendres-28-boogalizer-a-capellades.html
CLASS:PUBLIC
END:VEVENT
END:VCALENDAR
