BEGIN:VCALENDAR
VERSION:2.0
CALSCALE:GREGORIAN
PRODID:-//Diputació de Barcelona//DibaCMS//EN
BEGIN:VEVENT
UID:5379
DTSTAMP:20260420T091729
DTSTART:20200814T183000
DTEND:20200814T200000
SUMMARY:Concert "La bona vida"
LOCATION:
METHOD:PUBLISH
X-WR-CALNAME:capellades@capellades.cat
X-WR-TIMEZONE:Europe/Madrid
DESCRIPTION:Més #capelladesculturasegura aquest divendres.

URI:https://www.capellades.cat/actualitat/agenda/concert-la-bona-vida.html
CLASS:PUBLIC
END:VEVENT
END:VCALENDAR
