BEGIN:VCALENDAR
VERSION:2.0
CALSCALE:GREGORIAN
PRODID:-//Diputació de Barcelona//DibaCMS//EN
BEGIN:VEVENT
UID:5330
DTSTAMP:20260420T092253
DTSTART:20200709T000000
DTEND:20200710T050000
SUMMARY:Avui, Sopar a la fresca ... amb Eva Cabezas
LOCATION:
METHOD:PUBLISH
X-WR-CALNAME:capellades@capellades.cat
X-WR-TIMEZONE:Europe/Madrid
DESCRIPTION:Avui a les 9 del vespre es farà la segona edició dels Sopars a la fresca organitzats des de Capellades Comerç en col·laboració amb l'Ajuntament de Capellades i La Lliga.

URI:https://www.capellades.cat/actualitat/agenda/avui-sopar-a-la-fresca--amb-eva-cabezas.html
CLASS:PUBLIC
END:VEVENT
END:VCALENDAR
