BEGIN:VCALENDAR
VERSION:2.0
CALSCALE:GREGORIAN
PRODID:-//Diputació de Barcelona//DibaCMS//EN
BEGIN:VEVENT
UID:5326
DTSTAMP:20260420T073848
DTSTART:20200712T110000
DTEND:20200712T141400
SUMMARY:Diumenge, Mulla't per l'Esclerosi Múltiple
LOCATION:
METHOD:PUBLISH
X-WR-CALNAME:capellades@capellades.cat
X-WR-TIMEZONE:Europe/Madrid
DESCRIPTION:Aquest diumenge torna el "Mulla't per l'esclerosi múltiple".

URI:https://www.capellades.cat/actualitat/agenda/diumenge-mullat-per-lesclerosi-multiple.html
CLASS:PUBLIC
END:VEVENT
END:VCALENDAR
