BEGIN:VCALENDAR
VERSION:2.0
CALSCALE:GREGORIAN
PRODID:-//Diputació de Barcelona//DibaCMS//EN
BEGIN:VEVENT
UID:5297
DTSTAMP:20260421T185833
DTSTART:20200625T000000
DTEND:20200720T000000
SUMMARY:Des de l'Ajuntament us proposem... Escapa't a  l'Anoia!
LOCATION:
METHOD:PUBLISH
X-WR-CALNAME:capellades@capellades.cat
X-WR-TIMEZONE:Europe/Madrid
DESCRIPTION:Aquest dijous a la secció Des de l'Ajuntament us proposem... una campanya de promoció.

URI:https://www.capellades.cat/actualitat/agenda/des-de-lajuntament-us-proposem-escapat-a-lanoia.html
CLASS:PUBLIC
END:VEVENT
END:VCALENDAR
