BEGIN:VCALENDAR
VERSION:2.0
CALSCALE:GREGORIAN
PRODID:-//Diputació de Barcelona//DibaCMS//EN
BEGIN:VEVENT
UID:5268
DTSTAMP:20260419T182808
DTSTART:20200609T000000
DTEND:20200709T000000
SUMMARY:Des de l'Ajuntament us proposem... la nostra sintonia més capelladina
LOCATION:
METHOD:PUBLISH
X-WR-CALNAME:capellades@capellades.cat
X-WR-TIMEZONE:Europe/Madrid
DESCRIPTION:Des de l'Ajuntament us proposem ... la "Marxa de les Festes del Carrer"

URI:https://www.capellades.cat/actualitat/agenda/des-de-lajuntament-us-proposem-la-nostra-sintonia-mes-capelladina.html
CLASS:PUBLIC
END:VEVENT
END:VCALENDAR
