BEGIN:VCALENDAR
VERSION:2.0
CALSCALE:GREGORIAN
PRODID:-//Diputació de Barcelona//DibaCMS//EN
BEGIN:VEVENT
UID:5222
DTSTAMP:20260420T071607
DTSTART:20200519T000000
DTEND:20200619T000000
SUMMARY:Des de l'Ajuntament us proposem... biografies
LOCATION:
METHOD:PUBLISH
X-WR-CALNAME:capellades@capellades.cat
X-WR-TIMEZONE:Europe/Madrid
DESCRIPTION:Avui a l'espai Des de l'Ajuntament us proposem... biografies.

URI:https://www.capellades.cat/actualitat/agenda/des-de-lajuntament-us-proposem-biografies.html
CLASS:PUBLIC
END:VEVENT
END:VCALENDAR
