BEGIN:VCALENDAR
VERSION:2.0
CALSCALE:GREGORIAN
PRODID:-//Diputació de Barcelona//DibaCMS//EN
BEGIN:VEVENT
UID:5208
DTSTAMP:20260419T200705
DTSTART:20200512T000000
DTEND:20200612T000000
SUMMARY:Avui des de l'Ajuntament us proposem... 2 recomanacions literàries
LOCATION:
METHOD:PUBLISH
X-WR-CALNAME:capellades@capellades.cat
X-WR-TIMEZONE:Europe/Madrid
DESCRIPTION:Avui a Des de l'Ajuntament us proposem... 2 recomanacions literàries.

URI:https://www.capellades.cat/actualitat/agenda/avui-des-de-lajuntament-us-proposem-2-recomanacions-literaries.html
CLASS:PUBLIC
END:VEVENT
END:VCALENDAR
