BEGIN:VCALENDAR
VERSION:2.0
CALSCALE:GREGORIAN
PRODID:-//Diputació de Barcelona//DibaCMS//EN
BEGIN:VEVENT
UID:5207
DTSTAMP:20260420T000147
DTSTART:20200513T000000
DTEND:20200613T000000
SUMMARY:Des de l'Ajuntament us proposem... Museum week
LOCATION:
METHOD:PUBLISH
X-WR-CALNAME:capellades@capellades.cat
X-WR-TIMEZONE:Europe/Madrid
DESCRIPTION:La secció d'avui del "Des de l'Ajuntament us proposem..." ens porta a la Museumweek.

URI:https://www.capellades.cat/actualitat/agenda/des-de-lajuntament-us-proposem-museum-week.html
CLASS:PUBLIC
END:VEVENT
END:VCALENDAR
