BEGIN:VCALENDAR
VERSION:2.0
CALSCALE:GREGORIAN
PRODID:-//Diputació de Barcelona//DibaCMS//EN
BEGIN:VEVENT
UID:520
DTSTAMP:20260419T163820
DTSTART:20141010T000000
DTEND:20141011T000000
SUMMARY:Comença el curs a l'Esplai Aliret
LOCATION:
METHOD:PUBLISH
X-WR-CALNAME:capellades@capellades.cat
X-WR-TIMEZONE:Europe/Madrid
DESCRIPTION:
	Aquest divendres 10 d'octubre serà el primer dia d'aquest nou curs a l'Esplai Aliret. Divendres serà el torn dels més grans i dissabte a les 4 de la tarda començarà les sessions de la resta.

	Qui no s'hagi inscrit pot fer-ho portant la inscripció i el pagament a la Rectoria, el mateix dia d'inici de curs.

URI:https://www.capellades.cat/actualitat/agenda/comenca-el-curs-a-lesplai-aliret.html
CLASS:PUBLIC
END:VEVENT
END:VCALENDAR
