BEGIN:VCALENDAR
VERSION:2.0
CALSCALE:GREGORIAN
PRODID:-//Diputació de Barcelona//DibaCMS//EN
BEGIN:VEVENT
UID:5195
DTSTAMP:20260419T222024
DTSTART:20200507T000000
DTEND:20200607T000000
SUMMARY:Des de l'Ajuntament us proposem... un concurs
LOCATION:
METHOD:PUBLISH
X-WR-CALNAME:capellades@capellades.cat
X-WR-TIMEZONE:Europe/Madrid
DESCRIPTION:Avui des de l'Ajuntament us proposem... un concurs fotogràfic per a joves de 12 a 20 anys.

URI:https://www.capellades.cat/actualitat/agenda/5195-des-de-lajuntament-us-proposem-un-concurs.html
CLASS:PUBLIC
END:VEVENT
END:VCALENDAR
