BEGIN:VCALENDAR
VERSION:2.0
CALSCALE:GREGORIAN
PRODID:-//Diputació de Barcelona//DibaCMS//EN
BEGIN:VEVENT
UID:5185
DTSTAMP:20260419T170506
DTSTART:20200504T000000
DTEND:20200604T000000
SUMMARY:Avui des de l'Ajuntament us proposem... veure fer pasta de paper
LOCATION:
METHOD:PUBLISH
X-WR-CALNAME:capellades@capellades.cat
X-WR-TIMEZONE:Europe/Madrid
DESCRIPTION:Avui la secció "Des de l'Ajuntament us proposem..." ens porta a veure com es fa la pasta de paper.

URI:https://www.capellades.cat/actualitat/agenda/avui-des-de-lajuntament-us-proposem-veure-fer-pasta-de-paper.html
CLASS:PUBLIC
END:VEVENT
END:VCALENDAR
