BEGIN:VCALENDAR
VERSION:2.0
CALSCALE:GREGORIAN
PRODID:-//Diputació de Barcelona//DibaCMS//EN
BEGIN:VEVENT
UID:5176
DTSTAMP:20260420T073817
DTSTART:20200428T000000
DTEND:20200528T000000
SUMMARY:Des de l'Ajuntament us proposem ... contes
LOCATION:
METHOD:PUBLISH
X-WR-CALNAME:capellades@capellades.cat
X-WR-TIMEZONE:Europe/Madrid
DESCRIPTION:Avui des de l'Ajuntament us proposem... un conte.

URI:https://www.capellades.cat/actualitat/agenda/des-de-lajuntament-us-proposem--contes.html
CLASS:PUBLIC
END:VEVENT
END:VCALENDAR
